BEGIN:VCALENDAR
VERSION:2.0
PRODID:-//wp-events-plugin.com//7.2.3.1//EN
BEGIN:VEVENT
UID:34@stichting-ulo.nl
DTSTART:20260711T203000Z
DTEND:20260711T220000Z
DTSTAMP:20260310T105859Z
URL:https://stichting-ulo.nl/events/concert-ulo-dorpskerk-vorden/
SUMMARY:Concert ULO\, Dorpskerk Vorden
DESCRIPTION:Concert ULO\n\nMeer info volgt spoedig!\n\nWAAR\n\nDorpskerk Vo
 rden\nKerkstraat 2-4 - 7251 BC Vorden\n\nKAARTEN\n\nnog niet bekend.
END:VEVENT
END:VCALENDAR